BEGIN:VCALENDAR
VERSION:2.0
PRODID:-//AudioTheme 2.3.2
BEGIN:VEVENT
UID:urn:uuid:3622354d-3ec9-4bf9-bcdb-382493e59a38
URL:https://carly-e.com/shows/woonkamerfestival-gooise-meren-album-release-tour-natural/
DTSTART;TZID=GMT:20241110T000000
SUMMARY:Woonkamerfestival Gooise Meren | Album Release Tour "Natural"
DESCRIPTION:Neo classical album tour
LOCATION:Brasserie Bon\, Nieuwe Haven 33\, Naarden\, 
END:VEVENT
END:VCALENDAR
