BEGIN:VCALENDAR
VERSION:2.0
PRODID:-//AudioTheme 2.3.2
BEGIN:VEVENT
UID:urn:uuid:a41525e7-a42f-4a48-8457-4b04499507ed
URL:https://carly-e.com/shows/wk-poezie-zaal100/
DTSTART;VALUE=DATE:20181110
SUMMARY:WK Poezie @Zaal100
DESCRIPTION:Solo Sound
LOCATION:Zaal 100\, Amsterdam\, 
END:VEVENT
END:VCALENDAR
