BEGIN:VCALENDAR
VERSION:2.0
PRODID:-//AudioTheme 2.3.2
BEGIN:VEVENT
UID:urn:uuid:a9dba910-2f7c-43fb-ae8c-5e25520fbe7f
URL:https://carly-e.com/shows/willibrordus-draait-door-festival/
DTSTART;TZID=GMT:20220526T000000
SUMMARY:Willibrordus Draait Door Festival
DESCRIPTION:Carly E & The Outstanding
LOCATION:Bij de Cultuurkoepel Heiloo\, Kennemerstraatweg 464\, Heiloo\, 
END:VEVENT
END:VCALENDAR
