BEGIN:VCALENDAR
VERSION:2.0
PRODID:-//AudioTheme 2.3.2
BEGIN:VEVENT
UID:urn:uuid:cb93ce9c-edac-4af1-ba6a-dd157563077d
URL:https://carly-e.com/shows/weekendconcert-antonie-van-leeuwenhoek-hospital/
DTSTART;TZID=GMT:20180526T000000
SUMMARY:Weekendconcert Antonie van Leeuwenhoek Hospital
DESCRIPTION:Solo sound. Private event
LOCATION:Antonie van Leeuwenhoek Hospital\, Amsterdam\, 
END:VEVENT
END:VCALENDAR
