BEGIN:VCALENDAR
VERSION:2.0
PRODID:-//AudioTheme 2.3.2
BEGIN:VEVENT
UID:urn:uuid:c5721d26-90c6-472c-9674-0927d7cf46a8
URL:https://carly-e.com/shows/weekendactiviteit/
DTSTART;TZID=GMT:20160827T000000
SUMMARY:Weekendactiviteit
DESCRIPTION:Solo sound
LOCATION:Antonie van Leeuwenhoek Hospital\, Amsterdam\, 
END:VEVENT
END:VCALENDAR
