BEGIN:VCALENDAR
VERSION:2.0
PRODID:-//AudioTheme 2.3.2
BEGIN:VEVENT
UID:urn:uuid:5a3e00f0-bd92-42e7-9aa4-a3d951b2cbd7
URL:https://carly-e.com/shows/wedding-private-event/
DTSTART;TZID=GMT:20220703T000000
SUMMARY:Wedding | private event
DESCRIPTION:Solo sound
LOCATION:Slot Heemstede\, Ringvaartlaan 11\, Heemstede\, 
END:VEVENT
END:VCALENDAR
