BEGIN:VCALENDAR
VERSION:2.0
PRODID:-//AudioTheme 2.3.2
BEGIN:VEVENT
UID:urn:uuid:32cc95ea-426e-4251-9eff-59154a75d2af
URL:https://carly-e.com/shows/wedding-party/
DTSTART;VALUE=DATE:20170325
SUMMARY:Wedding party
DESCRIPTION:Solo sound
LOCATION:Mayer Manor\, Amsterdam\, 
END:VEVENT
END:VCALENDAR
