BEGIN:VCALENDAR
VERSION:2.0
PRODID:-//AudioTheme 2.3.2
BEGIN:VEVENT
UID:urn:uuid:011802b5-50fc-4b7f-adb4-9c1b5fb4ecc7
URL:https://carly-e.com/shows/wedding-party-private-event/
DTSTART;TZID=GMT:20220312T000000
SUMMARY:Wedding party | Private event
DESCRIPTION:Private solo event
LOCATION:Lab-44\, Middenweg 44\, Zaandam\, 
END:VEVENT
END:VCALENDAR
