BEGIN:VCALENDAR
VERSION:2.0
PRODID:-//AudioTheme 2.3.2
BEGIN:VEVENT
UID:urn:uuid:293de61b-7176-4367-a2ae-a07ce6054076
URL:https://carly-e.com/shows/vreugdehof-album-release-tour-natural/
DTSTART;TZID=GMT:20240929T000000
SUMMARY:Vreugdehof | Album Release Tour "Natural"
DESCRIPTION:Neo classical album tour
LOCATION:Vreugdehof\, de klencke 111\, Amsterdam\, 
END:VEVENT
END:VCALENDAR
