BEGIN:VCALENDAR
VERSION:2.0
PRODID:-//AudioTheme 2.3.2
BEGIN:VEVENT
UID:urn:uuid:2b8ce1a2-5bfd-44f6-a46f-e748557ba944
URL:https://carly-e.com/shows/viva-las-vegas-food-festival/
DTSTART;TZID=GMT:20160723T000000
SUMMARY:Viva Las Vega’s Food Festival
DESCRIPTION:Solo sound
LOCATION:De Hallen\, Amsterdam\, 
END:VEVENT
END:VCALENDAR
