BEGIN:VCALENDAR
VERSION:2.0
PRODID:-//AudioTheme 2.3.2
BEGIN:VEVENT
UID:urn:uuid:9bae734e-2bc7-4456-9602-52f8f2f5a950
URL:https://carly-e.com/shows/trek-performance/
DTSTART;TZID=GMT:20190510T000000
SUMMARY:Festival TREK | Solo Performance
DESCRIPTION:Solo sound
LOCATION:Vroesenpark\, Vroesenpark\, Rotterdam\, 
END:VEVENT
END:VCALENDAR
