BEGIN:VCALENDAR
VERSION:2.0
PRODID:-//AudioTheme 2.3.2
BEGIN:VEVENT
UID:urn:uuid:c0120cce-b3a8-4913-9c86-5584cfe946e4
URL:https://carly-e.com/shows/trek-festival-performance/
DTSTART;TZID=GMT:20190531T000000
SUMMARY:Festival TREK | Solo Performance
DESCRIPTION:Solo sound
LOCATION:Hunnerpark\, Hunnerpark\, Nijmegen\, 
END:VEVENT
END:VCALENDAR
