BEGIN:VCALENDAR
VERSION:2.0
PRODID:-//AudioTheme 2.3.2
BEGIN:VEVENT
UID:urn:uuid:dde6b59d-4e3f-4ea4-9508-11824645ee9c
URL:https://carly-e.com/shows/torpedo-theater/
DTSTART;TZID=GMT:20220816T000000
SUMMARY:Torpedo Theater
DESCRIPTION:Voorstelling Toekomstmuziek (NL\, Solo\, Try-out)
LOCATION:Torpedo Theater\, Sint Pieterspoortsteeg 33\,\, Amsterdam\, 
END:VEVENT
END:VCALENDAR
