BEGIN:VCALENDAR
VERSION:2.0
PRODID:-//AudioTheme 2.3.2
BEGIN:VEVENT
UID:urn:uuid:4e3ecd27-ad9e-4be3-8a38-c1455bc998ab
URL:https://carly-e.com/shows/torpedo-theater-kleinkunstmiddag/
DTSTART;TZID=GMT:20221002T000000
SUMMARY:Torpedo Theater | Kleinkunstmiddag
DESCRIPTION:Try-out voorstelling 
LOCATION:Torpedo Theater\, Sint Pieterspoortsteeg 33\,\, Amsterdam\, 
END:VEVENT
END:VCALENDAR
