BEGIN:VCALENDAR
VERSION:2.0
PRODID:-//AudioTheme 2.3.2
BEGIN:VEVENT
UID:urn:uuid:267038f6-abae-4264-b23b-ceeade9118d6
URL:https://carly-e.com/shows/tivoli-vredenburg-the-intimate-sessions/
DTSTART;TZID=GMT:20240320T000000
SUMMARY:Tivoli Vredenburg | The intimate sessions
DESCRIPTION:Solo set EN 40 min
LOCATION:TivoliVredenburg\, Vredenburgkade 11\, Utrecht\, \, 3511 WC
END:VEVENT
END:VCALENDAR
