BEGIN:VCALENDAR
VERSION:2.0
PRODID:-//AudioTheme 2.3.2
BEGIN:VEVENT
UID:urn:uuid:ce6e687d-36a6-494d-856f-540a83d363d9
URL:https://carly-e.com/shows/theater-meervaart-huis-der-letteren-evenement/
DTSTART;TZID=GMT:20190426T000000
SUMMARY:Theater Meervaart | Event of 'Huis der Letteren'
DESCRIPTION:Solo sound
LOCATION:Theater Meervaart\, Meer en Vaart 300\, Amsterdam\, 
END:VEVENT
END:VCALENDAR
