BEGIN:VCALENDAR
VERSION:2.0
PRODID:-//AudioTheme 2.3.2
BEGIN:VEVENT
UID:urn:uuid:6dd3cb67-e4ac-4606-8d84-5fb3b4772c46
URL:https://carly-e.com/shows/theater-mascini/
DTSTART;TZID=GMT:20221028T000000
SUMMARY:Theater Mascini
DESCRIPTION:Voorstelling Toekomstmuziek (NL)
LOCATION:Theater Mascini\, Zeedijk 24\, Amsterdam\, 
END:VEVENT
END:VCALENDAR
