BEGIN:VCALENDAR
VERSION:2.0
PRODID:-//AudioTheme 2.3.2
BEGIN:VEVENT
UID:urn:uuid:c5cdcfd8-9a1e-45c6-b224-df0d9a4a6231
URL:https://carly-e.com/shows/theater-de-boemel-zo-simpel-is-het/
DTSTART;TZID=GMT:20190913T000000
SUMMARY:Theater de Boemel | "Zo Simpel Is Het"
DESCRIPTION:Solo sound
LOCATION:Theater de Boemel\, Burgemeester Brokxlaan 8-76\, Tilburg\, 
END:VEVENT
END:VCALENDAR
