BEGIN:VCALENDAR
VERSION:2.0
PRODID:-//AudioTheme 2.3.2
BEGIN:VEVENT
UID:urn:uuid:44b4f221-3e57-49ba-9de5-f138b4d4f6ea
URL:https://carly-e.com/shows/theater-avenue-sonsbeek-2/
DTSTART;TZID=GMT:20220826T000000
SUMMARY:Theater Avenue Sonsbeek
DESCRIPTION:Voorstelling Toekomstmuziek (NL\, solo\, try-out)
LOCATION:Sonsbeek Theater Avenue\, Stadsvilla Sonsbeek\, Arnhem\, 
END:VEVENT
END:VCALENDAR
