BEGIN:VCALENDAR
VERSION:2.0
PRODID:-//AudioTheme 2.3.2
BEGIN:VEVENT
UID:urn:uuid:c688c186-2629-4456-b63c-82ffa7628e92
URL:https://carly-e.com/shows/the-white-house-collective-performance/
DTSTART;TZID=GMT:20190125T190000
SUMMARY:The White House Collective performance
DESCRIPTION:Solo sound. Bday party. 
LOCATION:The White House Collective\, Zandpad 3a\, Amsterdam\, \, Nederland\, 1054 GA
END:VEVENT
END:VCALENDAR
