BEGIN:VCALENDAR
VERSION:2.0
PRODID:-//AudioTheme 2.3.2
BEGIN:VEVENT
UID:urn:uuid:226d5833-09c1-4126-9dc3-4263f0b31e98
URL:https://carly-e.com/shows/the-serenades/
DTSTART;TZID=GMT:20171015T000000
SUMMARY:The Serenades
DESCRIPTION:Solo sound
LOCATION:Cafe de Spruyt\, Cafe de Spruyt\, Amsterdam\, 
END:VEVENT
END:VCALENDAR
