BEGIN:VCALENDAR
VERSION:2.0
PRODID:-//AudioTheme 2.3.2
BEGIN:VEVENT
UID:urn:uuid:824cba75-767b-404c-a94d-7aee835a624a
URL:https://carly-e.com/shows/the-lullabye-factory-xmas-event/
DTSTART;TZID=GMT:20161215T000000
SUMMARY:The Lullabye Factory Xmas Event 
DESCRIPTION:Carly E. & her Band
LOCATION:Kapitein Zeppos\, Gebed Zonder End 5\, Amsterdam\, 
END:VEVENT
END:VCALENDAR
