BEGIN:VCALENDAR
VERSION:2.0
PRODID:-//AudioTheme 2.3.2
BEGIN:VEVENT
UID:urn:uuid:e841f65c-365e-40ab-89c0-2d09afb77dc1
URL:https://carly-e.com/shows/the-lullabye-factory-with-carly-e-katja-hyung-jung-ji-yussif-barakat/
DTSTART;TZID=GMT:20160928T000000
SUMMARY:The Lullabye Factory with Carly E, Katja Hyung Jung Ji & Yussif Barakat
DESCRIPTION:Solo sound
LOCATION:Zaal 100\, Amsterdam\, 
END:VEVENT
END:VCALENDAR
