BEGIN:VCALENDAR
VERSION:2.0
PRODID:-//AudioTheme 2.3.2
BEGIN:VEVENT
UID:urn:uuid:f98bff14-346d-4e0c-b164-86307ce2607f
URL:https://carly-e.com/shows/the-living-village-festival/
DTSTART;TZID=GMT:20190621T000000
SUMMARY:The Living Village Festival | Solo Performance
DESCRIPTION:Solo sound
LOCATION:The Living Village Festival\, Dalfsen\, 
END:VEVENT
END:VCALENDAR
