BEGIN:VCALENDAR
VERSION:2.0
PRODID:-//AudioTheme 2.3.2
BEGIN:VEVENT
UID:urn:uuid:ddd8605a-3923-4a83-b840-6c309269edae
URL:https://carly-e.com/shows/the-jitterbug-saloon-carly-e-her-band/
DTSTART;TZID=GMT:20190711T200000
SUMMARY:The Jitterbug Saloon | Carly E & Friends
DESCRIPTION:Carly E & her Band
LOCATION:The Jitterbug Saloon\, Bloemgracht 170\, Amsterdam\, Nederland\, Nederland\, 1015 TV
END:VEVENT
END:VCALENDAR
