BEGIN:VCALENDAR
VERSION:2.0
PRODID:-//AudioTheme 2.3.2
BEGIN:VEVENT
UID:urn:uuid:531842d1-34a9-4b4c-8f20-16ff8dd373f5
URL:https://carly-e.com/shows/tedx-hilversum/
DTSTART;TZID=GMT:20161207T000000
SUMMARY:TedX Hilversum
DESCRIPTION:2 songs en short talk
LOCATION:Gooiland Theater\, Emmastraat 2\, Hilversum\, 
END:VEVENT
END:VCALENDAR
