BEGIN:VCALENDAR
VERSION:2.0
PRODID:-//AudioTheme 2.3.2
BEGIN:VEVENT
UID:urn:uuid:d7c6e811-11d2-4d43-9348-366f91447ae3
URL:https://carly-e.com/shows/tbc/
DTSTART;TZID=GMT:20190831T170000
SUMMARY:Werkspoorkathedraal | Support Act Jeroen van Veen (Best of Einaudi)
DESCRIPTION:Solo sound
LOCATION:Werkspoorkathedraal\, Tractieweg 41\, Utrecht\, \, Nederland\, 3534 AP
END:VEVENT
END:VCALENDAR
