BEGIN:VCALENDAR
VERSION:2.0
PRODID:-//AudioTheme 2.3.2
BEGIN:VEVENT
UID:urn:uuid:919eb37d-dd82-41a1-99c4-068434a90826
URL:https://carly-e.com/shows/taste-of-music/
DTSTART;VALUE=DATE:20170318
SUMMARY:Taste of Music 
DESCRIPTION:Solo sound
LOCATION:'t Blok\, Ijsermanpad 1\, Nieuwerkerk aan den Ijssel\, 
END:VEVENT
END:VCALENDAR
