BEGIN:VCALENDAR
VERSION:2.0
PRODID:-//AudioTheme 2.3.2
BEGIN:VEVENT
UID:urn:uuid:40f5463f-ef68-4ae1-991b-ac990eca4ca4
URL:https://carly-e.com/shows/taste-before-you-waste-summer-festival-solo-performance/
DTSTART;TZID=GMT:20190601T000000
SUMMARY:Taste Before You Waste Summer Festival | Solo Performance
DESCRIPTION:Solo Sound
LOCATION:Taste Before You Waste\, Plantage Doklaan 8-12\, Amsterdam\, 
END:VEVENT
END:VCALENDAR
