BEGIN:VCALENDAR
VERSION:2.0
PRODID:-//AudioTheme 2.3.2
BEGIN:VEVENT
UID:urn:uuid:6ad320be-083d-4494-849c-8df76fa3064b
URL:https://carly-e.com/shows/taste-before-you-waste-last-summer-event/
DTSTART;TZID=GMT:20190626T000000
SUMMARY:Taste Before You Waste | Last Summer Event
DESCRIPTION:Solo performance
LOCATION:Plantage Dok\, Plantage Doklaan 8\, Amsterdam\, Nederland\, Nederland\, 1077HK
END:VEVENT
END:VCALENDAR
