BEGIN:VCALENDAR
VERSION:2.0
PRODID:-//AudioTheme 2.3.2
BEGIN:VEVENT
UID:urn:uuid:0168395e-17f1-4d22-9c4d-88d7af062e66
URL:https://carly-e.com/shows/sun-days-chilling/
DTSTART;TZID=GMT:20160731T000000
SUMMARY:Sun Day’s Chilling
DESCRIPTION:Solo sound
LOCATION:Odessa\, Odessa\, Amsterdam\, 
END:VEVENT
END:VCALENDAR
