BEGIN:VCALENDAR
VERSION:2.0
PRODID:-//AudioTheme 2.3.2
BEGIN:VEVENT
UID:urn:uuid:ca9020e0-d490-409a-b3af-da2267ff5858
URL:https://carly-e.com/shows/strand-safari-marina-podium/
DTSTART;TZID=GMT:20180714T000000
SUMMARY:Strand Safari @Marina Podium
DESCRIPTION:Solo sound
LOCATION:Strand Safari Festival\, Almere\, 
END:VEVENT
END:VCALENDAR
