BEGIN:VCALENDAR
VERSION:2.0
PRODID:-//AudioTheme 2.3.2
BEGIN:VEVENT
UID:urn:uuid:1127efa9-624a-422f-85aa-34436d2630f9
URL:https://carly-e.com/shows/solo-sound/
DTSTART;TZID=GMT:20190614T213000
SUMMARY:Reurpop Festival | Solo Performance
DESCRIPTION:Solo sound
LOCATION:Reurpop\, Wiersseweg 47\, Ruurlo\, \, Nederland\, 7261 MB
END:VEVENT
END:VCALENDAR
