BEGIN:VCALENDAR
VERSION:2.0
PRODID:-//AudioTheme 2.3.2
BEGIN:VEVENT
UID:urn:uuid:0c6f150a-3f63-4ab5-a6d5-148552d10c10
URL:https://carly-e.com/shows/solo-performance-landjuweel/
DTSTART;TZID=GMT:20190811T000000
SUMMARY:Landjuweel Festival | Solo Performance
DESCRIPTION:Solo Performance 
LOCATION:Ruigoord\, Ruigoord 76\, Amsterdam\, 
END:VEVENT
END:VCALENDAR
