BEGIN:VCALENDAR
VERSION:2.0
PRODID:-//AudioTheme 2.3.2
BEGIN:VEVENT
UID:urn:uuid:87b8905b-c270-4f0e-89f3-05709ab7f609
URL:https://carly-e.com/shows/singer-songwriter-sunday/
DTSTART;TZID=GMT:20160925T000000
SUMMARY:Singer-Songwriter Sunday
DESCRIPTION:Solo sound
LOCATION:Erasmuspark\, Erasmuspark\, Amsterdam\, 
END:VEVENT
END:VCALENDAR
