BEGIN:VCALENDAR
VERSION:2.0
PRODID:-//AudioTheme 2.3.2
BEGIN:VEVENT
UID:urn:uuid:4d7bb0af-6ea7-41e8-a8b3-cc3fcca5a563
URL:https://carly-e.com/shows/singer-songwriter-afternoon-charlie-mary/
DTSTART;TZID=GMT:20160123T000000
SUMMARY:Singer-songwriter afternoon Charlie + Mary
DESCRIPTION:Solo sound
LOCATION:De Hallen\, Amsterdam\, 
END:VEVENT
END:VCALENDAR
