BEGIN:VCALENDAR
VERSION:2.0
PRODID:-//AudioTheme 2.3.2
BEGIN:VEVENT
UID:urn:uuid:d434c88f-c178-4fe1-97a1-a55f73060495
URL:https://carly-e.com/shows/show-van-klassiek-cellist-naar-artiest-met-cello/
DTSTART;TZID=GMT:20180127T000000
SUMMARY:Show Van Klassiek Cellist naar Artiest met Cello
DESCRIPTION:Solo sound. Avondvullend programma
LOCATION:Garage Jotham Gast\, Amsterdam\, 
END:VEVENT
END:VCALENDAR
