BEGIN:VCALENDAR
VERSION:2.0
PRODID:-//AudioTheme 2.3.2
BEGIN:VEVENT
UID:urn:uuid:17f25f30-1858-4e54-8289-e50da023dfbb
URL:https://carly-e.com/shows/show-van-klassiek-cellist-naar-artiest-met-cello-2/
DTSTART;TZID=GMT:20180113T000000
SUMMARY:Show Van Klassiek Cellist naar Artiest met Cello
DESCRIPTION:Solo sound. Avondvullend programma 
LOCATION:Bij de Cultuurkoepel Heiloo\, Kennemerstraatweg 464\, Heiloo\, 
END:VEVENT
END:VCALENDAR
