BEGIN:VCALENDAR
VERSION:2.0
PRODID:-//AudioTheme 2.3.2
BEGIN:VEVENT
UID:urn:uuid:62221f8c-166c-49d0-9ae4-a5b350906cbb
URL:https://carly-e.com/shows/show-no-cello-clasico-private-event/
DTSTART;TZID=GMT:20190320T180000
SUMMARY:Private event
DESCRIPTION:This is a private event. Show No Cello Clásico. Solo sound. 
LOCATION:TapasTheater\, Andreas Bonnstraat 40-H\, Amsterdam\, \, Nederland\, 1091 BA
END:VEVENT
END:VCALENDAR
