BEGIN:VCALENDAR
VERSION:2.0
PRODID:-//AudioTheme 2.3.2
BEGIN:VEVENT
UID:urn:uuid:7dcfc43b-59d8-444b-984b-01b0f746aaed
URL:https://carly-e.com/shows/shaffys-impro-jazzclub-solo-performance/
DTSTART;TZID=GMT:20190607T000000
SUMMARY:Shaffy’s Impro Jazzclub | Solo Performance
DESCRIPTION:Solo Performance
LOCATION:Cafe MidWest\, Cabralstraat 1\, Amsterdam\, 
END:VEVENT
END:VCALENDAR
