BEGIN:VCALENDAR
VERSION:2.0
PRODID:-//AudioTheme 2.3.2
BEGIN:VEVENT
UID:urn:uuid:88daab32-95d3-42e0-90ad-ab1ec838e477
URL:https://carly-e.com/shows/scala-theater-muzikale-voorstelling-thuis-nl-3/
DTSTART;TZID=GMT:20240112T000000
SUMMARY:Scala Theater | Muzikale voorstelling "Thuis" (NL) or "Home" (EN)
DESCRIPTION:Solo\, NL/EN
LOCATION:Scala | foodbar & theater\, Van Hallstraat 286\, Amsterdam\, 
END:VEVENT
END:VCALENDAR
