BEGIN:VCALENDAR
VERSION:2.0
PRODID:-//AudioTheme 2.3.2
BEGIN:VEVENT
UID:urn:uuid:281078cf-2a0d-47ae-adf4-302b0be3bc77
URL:https://carly-e.com/shows/sanquin-bloedbank-edel-events/
DTSTART;TZID=GMT:20180407T140000
SUMMARY:Sanquin Bloedbank Edel events
DESCRIPTION:Solo sound. Private event
LOCATION:Werkspoorkathedraal\, Tractieweg 41\, Utrecht\, \, Nederland\, 3534 AP
END:VEVENT
END:VCALENDAR
