BEGIN:VCALENDAR
VERSION:2.0
PRODID:-//AudioTheme 2.3.2
BEGIN:VEVENT
UID:urn:uuid:86dc8922-2b90-4d17-8ba9-2140a2e64ddb
URL:https://carly-e.com/shows/rooster-friends-michiel-vinyl/
DTSTART;TZID=GMT:20180909T000000
SUMMARY:Rooster & Friends @ Michiel Vinyl
DESCRIPTION:Jam with Rooster & Friends
LOCATION:Michiel Vinyl\, Amsterdam\, 
END:VEVENT
END:VCALENDAR
