BEGIN:VCALENDAR
VERSION:2.0
PRODID:-//AudioTheme 2.3.2
BEGIN:VEVENT
UID:urn:uuid:210d1a80-826b-4d70-bb89-cf4811c8f2a3
URL:https://carly-e.com/shows/rollende-keukens/
DTSTART;TZID=GMT:20170524T000000
SUMMARY:Rollende Keukens
DESCRIPTION:Solo sound
LOCATION:Westergasfabriek\, Westergasfabriek\, Amsterdam\, 
END:VEVENT
END:VCALENDAR
