BEGIN:VCALENDAR
VERSION:2.0
PRODID:-//AudioTheme 2.3.2
BEGIN:VEVENT
UID:urn:uuid:16690312-72e3-4d9c-b1e8-86b8e6b1a54f
URL:https://carly-e.com/shows/roadtrip-festival-convoi-de-fete-9/
DTSTART;VALUE=DATE:20180811
SUMMARY:Roadtrip Festival Convoi de Fête
DESCRIPTION:Solo sound
LOCATION:Camping Heeg\, De Burd 25A\, Heeg\, 
END:VEVENT
END:VCALENDAR
