BEGIN:VCALENDAR
VERSION:2.0
PRODID:-//AudioTheme 2.3.2
BEGIN:VEVENT
UID:urn:uuid:344c9b1d-3150-420c-b967-440d098009f1
URL:https://carly-e.com/shows/roadtrip-festival-convoi-de-fete-4/
DTSTART;VALUE=DATE:20180816
SUMMARY:Roadtrip Festival Convoi de Fête
DESCRIPTION:Solo sound
LOCATION:Camping Buitenland\, Stieltjeskanaal 14\, Zandpol\, 
END:VEVENT
END:VCALENDAR
