BEGIN:VCALENDAR
VERSION:2.0
PRODID:-//AudioTheme 2.3.2
BEGIN:VEVENT
UID:urn:uuid:edefedc1-07dc-427d-af74-4fbcc6714f46
URL:https://carly-e.com/shows/roadtrip-festival-convoi-de-fete-3/
DTSTART;VALUE=DATE:20180817
SUMMARY:Roadtrip Festival Convoi de Fête
DESCRIPTION:Solo sound
LOCATION:De Lievelinge\, Haarweg 6\, Vuren\, 
END:VEVENT
END:VCALENDAR
