BEGIN:VCALENDAR
VERSION:2.0
PRODID:-//AudioTheme 2.3.2
BEGIN:VEVENT
UID:urn:uuid:6113df8a-4421-4696-a377-2e84ab378285
URL:https://carly-e.com/shows/roadtrip-festival-convoi-de-fete-10/
DTSTART;VALUE=DATE:20180810
SUMMARY:Roadtrip Festival Convoi de Fête
DESCRIPTION:Solo sound
LOCATION:Nieuw en Meer\, Oude Haagseweg 51\, Amsterdam\, 
END:VEVENT
END:VCALENDAR
