BEGIN:VCALENDAR
VERSION:2.0
PRODID:-//AudioTheme 2.3.2
BEGIN:VEVENT
UID:urn:uuid:16a0becc-13ed-4892-b20c-b25b517e28e6
URL:https://carly-e.com/shows/retirement-party/
DTSTART;TZID=GMT:20170122T000000
SUMMARY:Retirement party
DESCRIPTION:Solo sound. Private event
LOCATION:Geertekerk\, Utrecht\, 
END:VEVENT
END:VCALENDAR
