BEGIN:VCALENDAR
VERSION:2.0
PRODID:-//AudioTheme 2.3.2
BEGIN:VEVENT
UID:urn:uuid:efd976ae-4e53-413a-8f53-37b396e7a33b
URL:https://carly-e.com/shows/release-party-cinetol/
DTSTART;VALUE=DATE:20180615
SUMMARY:Release party @Cinetol
DESCRIPTION:Carly E. & her Band release party debut album
LOCATION:Cinetol\, Amsterdam\, \, Nederland
END:VEVENT
END:VCALENDAR
